BEGIN:VCALENDAR
VERSION:2.0
PRODID:-//New England Invents - ECPv6.14.2//NONSGML v1.0//EN
CALSCALE:GREGORIAN
METHOD:PUBLISH
X-WR-CALNAME:New England Invents
X-ORIGINAL-URL:https://neinvents.org
X-WR-CALDESC:Events for New England Invents
REFRESH-INTERVAL;VALUE=DURATION:PT1H
X-Robots-Tag:noindex
X-PUBLISHED-TTL:PT1H
BEGIN:VTIMEZONE
TZID:America/New_York
BEGIN:DAYLIGHT
TZOFFSETFROM:-0500
TZOFFSETTO:-0400
TZNAME:EDT
DTSTART:20230312T070000
END:DAYLIGHT
BEGIN:STANDARD
TZOFFSETFROM:-0400
TZOFFSETTO:-0500
TZNAME:EST
DTSTART:20231105T060000
END:STANDARD
END:VTIMEZONE
BEGIN:VTIMEZONE
TZID:UTC
BEGIN:STANDARD
TZOFFSETFROM:+0000
TZOFFSETTO:+0000
TZNAME:UTC
DTSTART:20230101T000000
END:STANDARD
END:VTIMEZONE
BEGIN:VEVENT
DTSTART;TZID=America/New_York:20230823T140000
DTEND;TZID=America/New_York:20230823T150000
DTSTAMP:20260420T220839
CREATED:20230801T175404Z
LAST-MODIFIED:20230806T215440Z
UID:1217-1692799200-1692802800@neinvents.org
SUMMARY:Patent Basics
DESCRIPTION:A free\, virtual session as we explore different types of patents\, including utility\, design\, and plant. In this session\, experts from the United States Patent and Trademark Office (USPTO) will show you the difference between provisional patent applications and nonprovisional patent applications and how to use them.  \n\n\n\nAttendees will also learn about: \n\n\n\n\nThe process of patent prosecution\n\n\n\nThe role of patent examiners at the USPTO\n\n\n\nWhat to expect when working with the USPTO\n\n\n\nResources available through the USPTO to protect your IP\n\n\n\n\n\n\n\n\n\n\n\n\n\n\n\n\n 
URL:https://neinvents.org/event/patent-basics/
LOCATION:MA
ATTACH;FMTTYPE=image/png:https://neinvents.org/wp-content/uploads/2023/08/uspto_logo-e1692382602995.png
END:VEVENT
BEGIN:VEVENT
DTSTART;TZID=UTC:20230814T190000
DTEND;TZID=UTC:20230814T200000
DTSTAMP:20260420T220839
CREATED:20230727T223827Z
LAST-MODIFIED:20230811T042657Z
UID:811-1692039600-1692043200@neinvents.org
SUMMARY:How to Increase Your Chances of Licensing Your Product
DESCRIPTION:Sit down with us as we speak with Michael Miller. Michael is the Former Director of Product Partnerships for NCH Corporation where he led the Product Partnership Program for three companies within NCH corporation: Hero Pet Brands\, Plumbing Products Group\, and LSP company. Brands include Danco\, Danco Next\, Go Bidet\, Disposal Genie\, RediTape\, MJSI\, Rapid Fit\, Pull stop Box\, and Aqua- Flo. NCH products are carried at Walmart\, Home Depot\, Target\, Lowes\, Amazon\, True Value\, Menards\, Petco\, Pet Smart\, KB Homes\, ACE\, Bed Bath and Beyond\, QVC\, and more. \nMichael currently works as an independent consultant developing open innovation programs for several large consumer products companies. He is also an inventor himself\, having licensed multiple products.
URL:https://neinvents.org/event/how-to-increase-your-chances-of-licensing-your-product/
LOCATION:MA
ATTACH;FMTTYPE=image/jpeg:https://neinvents.org/wp-content/uploads/2023/07/M_Miller.jpg
END:VEVENT
END:VCALENDAR