BEGIN:VCALENDAR
VERSION:2.0
PRODID:-//New England Invents - ECPv6.14.2//NONSGML v1.0//EN
CALSCALE:GREGORIAN
METHOD:PUBLISH
X-WR-CALNAME:New England Invents
X-ORIGINAL-URL:https://neinvents.org
X-WR-CALDESC:Events for New England Invents
REFRESH-INTERVAL;VALUE=DURATION:PT1H
X-Robots-Tag:noindex
X-PUBLISHED-TTL:PT1H
BEGIN:VTIMEZONE
TZID:America/New_York
BEGIN:DAYLIGHT
TZOFFSETFROM:-0500
TZOFFSETTO:-0400
TZNAME:EDT
DTSTART:20230312T070000
END:DAYLIGHT
BEGIN:STANDARD
TZOFFSETFROM:-0400
TZOFFSETTO:-0500
TZNAME:EST
DTSTART:20231105T060000
END:STANDARD
END:VTIMEZONE
BEGIN:VTIMEZONE
TZID:UTC
BEGIN:STANDARD
TZOFFSETFROM:+0000
TZOFFSETTO:+0000
TZNAME:UTC
DTSTART:20230101T000000
END:STANDARD
END:VTIMEZONE
BEGIN:VEVENT
DTSTART;TZID=America/New_York:20231026T180000
DTEND;TZID=America/New_York:20231026T200000
DTSTAMP:20260420T162441
CREATED:20231004T031303Z
LAST-MODIFIED:20231004T032019Z
UID:3414-1698343200-1698350400@neinvents.org
SUMMARY:Authors & Innovators
DESCRIPTION:The Authors & Innovators Business Ideas Festival hosted by Gennari Aronson\, and sponsored by New England Invents\, is jam-packed with insights\, idea exchange\, and thoughtful\, intelligent conversation with business book authors\, innovators\, and top business minds. \nThursday’s Featured Conversation: Knowing What Matters: The Changing Mindset of Business \nToday’s emerging leaders face unprecedented challenges.  They need to work harder\, smarter\, and know what matters.  That means tracking the latest developments in tech\, retaining and attracting the right team\, considering the broader community\, and understanding that the only constant is change.  Join us as we explore how leaders can navigate these challenges with determination\, humility\, and humor. \n\nSaul Austerlitz: Adjunct professor of writing and comedy history at New York University\nClayton Fletcher: Popular stand-up comedian who performs all over the world.\nKashmir Hill: Features writer on the business desk at The New York Times\, covering technology and privacy\nRon Shaich: Founder and former Chairman and CEO of Panera Bread and Au Bon Pain and current Chairman and Lead investor in Cava\, Tatte\, Life Alive\, and Level99.\n\nDoors open @4:30. Event starts @6:00.
URL:https://neinvents.org/event/authors-innovators/
LOCATION:Mosesian Center for the Arts\, 321 Arsenal Street\, Watertown\, MA\, 02472
ATTACH;FMTTYPE=image/png:https://neinvents.org/wp-content/uploads/2023/10/NE-Invents-Sponsor-for-Authors-and-Innovators_.png
END:VEVENT
BEGIN:VEVENT
DTSTART;TZID=America/New_York:20230928T180000
DTEND;TZID=America/New_York:20230928T200000
DTSTAMP:20260420T162441
CREATED:20230811T152924Z
LAST-MODIFIED:20230828T192748Z
UID:2853-1695924000-1695931200@neinvents.org
SUMMARY:Jules Pieri and the Role of Innovation in Product Development
DESCRIPTION: Join us for an exclusive in-person event featuring renowned innovator\, entrepreneur\, and investor Jules Pieri!\nCo-founder & Former CEO of The Grommet 🔹 Fortune’s Most Powerful Women Entrepreneurs (2013) 🔹 Goldman Sachs’s 100 Most Interesting Entrepreneurs (2014) 🔹 Entrepreneur in Residence Emeritus at Harvard Business School 🔹 Member at G20 Ventures 🔹 Investing Partner at XFactor Ventures \nFrom her roots as an industrial designer to her executive roles at iconic brands like Keds\, Stride Rite\, and Playskool\, Jules’s journey is a true testament to innovation and entrepreneurship. Join us on September 28th for a conversation filled with invaluable insights and visionary strategies that have shaped the business landscape. \nAGENDA: \n6-7:00 PM Networking & light refreshments\n7- 8:00PM Keynote speaker \nUSE THIS ADDRESS FOR YOUR GPS!\nGarage Parking:  86 Merrimack St Haverhill\, MA \n\nPLEASE REGISTER FOR THIS EVENT: \n \n  \n  \nThis event is presented in collaboration with the UMass Lowell Innovation Hub Haverhill. \n                                   \n 
URL:https://neinvents.org/event/sept28/
LOCATION:New England Invents Offices at the IHub Haverhill Campus\, 2 Merrimack St Suite 342\, Haverhill\, MA\, 01830
ATTACH;FMTTYPE=image/png:https://neinvents.org/wp-content/uploads/2023/08/JPieri_new-e1692382485148.png
ORGANIZER;CN="NEI":MAILTO:lexa@neinvents.org
END:VEVENT
BEGIN:VEVENT
DTSTART;TZID=America/New_York:20230919T100000
DTEND;TZID=America/New_York:20230919T150000
DTSTAMP:20260420T162441
CREATED:20230919T154835Z
LAST-MODIFIED:20230919T154835Z
UID:3324-1695117600-1695135600@neinvents.org
SUMMARY:Manufacturing Mash-Up
DESCRIPTION:We are excited to see you tomorrow at Polar Park in Worcester for the 3rd annual Massachusetts Manufacturing Mash-Up! We are expecting nice weather and a terrific turnout. \nIncluded are some logistics information for you\, so that you can make the most of the event. If you have additional questions\, send them to manufacturing@masstech.org. \nVisit our Exhibitors \nPlease be sure to visit our many exhibitors across the concourse. The Mash-Up is designed to provide attendees the opportunity to connect with resources to help with hiring and training needs\, to leverage the manufacturing ecosystem and to find solutions that support your business\, and to learn about the latest manufacturing innovations coming out of the Commonwealth. \nWe look forward to seeing you at the event and hope you enjoy the day! Please do not hesitate to reach out with any questions. \nSee you at the Mash-Up!
URL:https://neinvents.org/event/manufacturing-mash-up/
LOCATION:MA
ATTACH;FMTTYPE=image/png:https://neinvents.org/wp-content/uploads/2023/09/mashup.png
END:VEVENT
BEGIN:VEVENT
DTSTART;TZID=America/New_York:20230823T140000
DTEND;TZID=America/New_York:20230823T150000
DTSTAMP:20260420T162441
CREATED:20230801T175404Z
LAST-MODIFIED:20230806T215440Z
UID:1217-1692799200-1692802800@neinvents.org
SUMMARY:Patent Basics
DESCRIPTION:A free\, virtual session as we explore different types of patents\, including utility\, design\, and plant. In this session\, experts from the United States Patent and Trademark Office (USPTO) will show you the difference between provisional patent applications and nonprovisional patent applications and how to use them.  \n\n\n\nAttendees will also learn about: \n\n\n\n\nThe process of patent prosecution\n\n\n\nThe role of patent examiners at the USPTO\n\n\n\nWhat to expect when working with the USPTO\n\n\n\nResources available through the USPTO to protect your IP\n\n\n\n\n\n\n\n\n\n\n\n\n\n\n\n\n 
URL:https://neinvents.org/event/patent-basics/
LOCATION:MA
ATTACH;FMTTYPE=image/png:https://neinvents.org/wp-content/uploads/2023/08/uspto_logo-e1692382602995.png
END:VEVENT
BEGIN:VEVENT
DTSTART;TZID=UTC:20230814T190000
DTEND;TZID=UTC:20230814T200000
DTSTAMP:20260420T162441
CREATED:20230727T223827Z
LAST-MODIFIED:20230811T042657Z
UID:811-1692039600-1692043200@neinvents.org
SUMMARY:How to Increase Your Chances of Licensing Your Product
DESCRIPTION:Sit down with us as we speak with Michael Miller. Michael is the Former Director of Product Partnerships for NCH Corporation where he led the Product Partnership Program for three companies within NCH corporation: Hero Pet Brands\, Plumbing Products Group\, and LSP company. Brands include Danco\, Danco Next\, Go Bidet\, Disposal Genie\, RediTape\, MJSI\, Rapid Fit\, Pull stop Box\, and Aqua- Flo. NCH products are carried at Walmart\, Home Depot\, Target\, Lowes\, Amazon\, True Value\, Menards\, Petco\, Pet Smart\, KB Homes\, ACE\, Bed Bath and Beyond\, QVC\, and more. \nMichael currently works as an independent consultant developing open innovation programs for several large consumer products companies. He is also an inventor himself\, having licensed multiple products.
URL:https://neinvents.org/event/how-to-increase-your-chances-of-licensing-your-product/
LOCATION:MA
ATTACH;FMTTYPE=image/jpeg:https://neinvents.org/wp-content/uploads/2023/07/M_Miller.jpg
END:VEVENT
END:VCALENDAR