BEGIN:VCALENDAR
VERSION:2.0
PRODID:-//New England Invents - ECPv6.14.2//NONSGML v1.0//EN
CALSCALE:GREGORIAN
METHOD:PUBLISH
X-ORIGINAL-URL:https://neinvents.org
X-WR-CALDESC:Events for New England Invents
REFRESH-INTERVAL;VALUE=DURATION:PT1H
X-Robots-Tag:noindex
X-PUBLISHED-TTL:PT1H
BEGIN:VTIMEZONE
TZID:America/New_York
BEGIN:DAYLIGHT
TZOFFSETFROM:-0500
TZOFFSETTO:-0400
TZNAME:EDT
DTSTART:20240310T070000
END:DAYLIGHT
BEGIN:STANDARD
TZOFFSETFROM:-0400
TZOFFSETTO:-0500
TZNAME:EST
DTSTART:20241103T060000
END:STANDARD
END:VTIMEZONE
BEGIN:VEVENT
DTSTART;TZID=America/New_York:20240226T190000
DTEND;TZID=America/New_York:20240226T200000
DTSTAMP:20260420T203434
CREATED:20240124T164256Z
LAST-MODIFIED:20240220T231545Z
UID:3716-1708974000-1708977600@neinvents.org
SUMMARY:Manufacturing Innovations: Future-Ready Strategies to Go to Market
DESCRIPTION:Join us for this virtual educational fireside chat with NEI’s manufacturing partner\, MNR Technology. A pioneer in Human Machine Interface (HMI) and interactive systems\, MNR Manufacturing brings over 30 years of industry expertise. \nThis event is a must-attend for anyone interested in the latest trends in product design\, development\, and manufacturing technologies. MNR’s approach to integrating advanced technology into user-friendly interfaces has set them apart in the field. Register today for this exciting opportunity to connect\, learn\, and envision the future of your inventions.
URL:https://neinvents.org/event/innovations-in-manufacturing-strategies-for-a-future-ready-go-to-market-approach/
LOCATION:MA
ATTACH;FMTTYPE=image/png:https://neinvents.org/wp-content/uploads/2024/01/Screenshot-2024-01-27-224431.png
END:VEVENT
BEGIN:VEVENT
DTSTART;TZID=America/New_York:20240316T090000
DTEND;TZID=America/New_York:20240316T140000
DTSTAMP:20260420T203434
CREATED:20240214T195828Z
LAST-MODIFIED:20240214T195828Z
UID:3955-1710579600-1710597600@neinvents.org
SUMMARY:Massachusetts Invention Convention
DESCRIPTION:The Massachusetts Invention Convention (MIC) is part of a global K-12 program aimed at fostering problem-solving\, entrepreneurship\, and creativity skills. On March 16th\, MIC will hold its state finals\, inviting over 75 students from grades K-12 who have engaged in this year-long initiative to showcase their inventions to a panel of judges and their peers. \nNew England Invents will be actively involved in this event\, contributing both to the judging panel and to an educational panel designed to assist parents and students with inquiries about advancing their inventions towards market readiness. \n\nMembers of NEI are invited to attend this exclusive event.  Please contact Lexa Gandolfo for details.
URL:https://neinvents.org/event/massachusetts-invention-convention/
LOCATION:Hopkinton High School\, 90 Hayden Rowe St\, Hopkinton\, MA\, 01748
ATTACH;FMTTYPE=image/png:https://neinvents.org/wp-content/uploads/2024/02/connecticut_invention_convention_inc_cover.png
END:VEVENT
BEGIN:VEVENT
DTSTART;TZID=America/New_York:20240321T180000
DTEND;TZID=America/New_York:20240321T203000
DTSTAMP:20260420T203434
CREATED:20240124T170505Z
LAST-MODIFIED:20240223T160748Z
UID:3720-1711044000-1711053000@neinvents.org
SUMMARY:Inventive Learning with Lemelson-MIT's Stephanie Couch
DESCRIPTION:  \n  \nJoin us for this in-person panel discussion on the role inventive learning plays in developing critical thinkers\, creators\, and inventors. \nWe are excited to have Stephanie Couch\, Executive Director of the Lemelson-MIT Program\, as our keynote speaker. Stephanie is a leader in innovative education\, focusing on how we can improve teaching and learning around invention. She has led numerous educational initiatives aimed at empowering both students and educators to embrace inventive thinking.  The Lemelson-MIT Program (LMIT) is a national leader in advancing invention education. LMIT has helped thousands of students and educators learn to invent and has recognized hundreds of collegiate and mid-career inventors for over 25 years. \nWhether you’re a seasoned inventor or just taking your first steps\, this panel offers a chance to connect with like-minded individuals\, gain practical insights\, and fuel your inventive spirit. Register now to secure your spot\, and be part of an event that can redefine your approach to inventive learning.
URL:https://neinvents.org/event/inventive-learning-where-ideas-evolve-into-inventions/
LOCATION:New England Invents Offices at the IHub Haverhill Campus\, 2 Merrimack St Suite 342\, Haverhill\, MA\, 01830
ATTACH;FMTTYPE=image/jpeg:https://neinvents.org/wp-content/uploads/2024/01/S-Couch2-1.jpg
END:VEVENT
BEGIN:VEVENT
DTSTART;TZID=America/New_York:20240610T190000
DTEND;TZID=America/New_York:20240610T200000
DTSTAMP:20260420T203434
CREATED:20240124T171527Z
LAST-MODIFIED:20240429T231549Z
UID:3727-1718046000-1718049600@neinvents.org
SUMMARY:Strategic Storytelling: Building Your Brand through Effective Marketing
DESCRIPTION:Join us as we host Todd Domke\, Strategist and Storyteller. Todd tells the stories of companies and nonprofits through PR\, marketing\, fundraising\, and pitch presentations. He crafts cost-effective strategies and persuasive content. He draws from deep experience in nearly every field of communications — as a former journalist\, speechwriter\, advertising producer\, campaign director\, political analyst\, business strategist\, author\, and public relations consultant. \nThis session is a unique opportunity for inventors to delve into the art of storytelling as a powerful tool for brand building and market success. Hear Todd discuss how to craft compelling narratives that resonate with audiences and will elevate your brand’s visibility. \nWhether you’re a seasoned inventor or just starting\, this event promises to teach everyone something about how to establish a powerful brand presence.\nRegister now to secure your spot at this dynamic event and learn how your invention’s story can become its greatest asset. \nRegister now to secure your spot at this dynamic event and learn how your invention’s story can become its greatest asset.
URL:https://neinvents.org/event/strategic-storytelling-building-your-brand-through-effective-marketing/
LOCATION:MA
ATTACH;FMTTYPE=image/jpeg:https://neinvents.org/wp-content/uploads/2024/01/GBH.jpg
END:VEVENT
BEGIN:VEVENT
DTSTART;TZID=America/New_York:20241021T190000
DTEND;TZID=America/New_York:20241021T200000
DTSTAMP:20260420T203434
CREATED:20240124T171916Z
LAST-MODIFIED:20240212T141650Z
UID:3731-1729537200-1729540800@neinvents.org
SUMMARY:Monetizing Your Invention: Advice on Licensing and Strategic Partnerships
DESCRIPTION:This virtual session is designed to provide you with invaluable insights and strategies on how to turn your inventive ideas into profitable ventures. Our panel of experts will share insider tips on navigating licensing agreements and forming strategic partnerships to maximize the monetization potential of your inventions. Whether you’re navigating the early stages of your invention or looking to elevate an existing one\, this panel promises practical advice and success stories that will fuel your entrepreneurial journey. \nRegister now to secure your spot to connect with industry leaders\, gain actionable insights\, and chart a course towards monetizing your inventive creations.
URL:https://neinvents.org/event/monetizing-your-invention-advice-on-licensing-and-strategic-partnerships/
LOCATION:MA
ATTACH;FMTTYPE=image/jpeg:https://neinvents.org/wp-content/uploads/2024/01/https___cdn.evbuc_.com_images_684183519_1356067214103_1_original.jpg
END:VEVENT
BEGIN:VEVENT
DTSTART;TZID=America/New_York:20241114T180000
DTEND;TZID=America/New_York:20241114T203000
DTSTAMP:20260420T203434
CREATED:20240124T230457Z
LAST-MODIFIED:20240212T141609Z
UID:3741-1731607200-1731616200@neinvents.org
SUMMARY:Legends of Invention: A Conversation with New England's Famous Inventors
DESCRIPTION:Join us for an exclusive in-person event featuring three of New England’s most renowned inventors. They’ll share their experiences and provide behind-the-scenes information about how they developed their successful inventions. Don’t miss this unique opportunity to gain firsthand insights from the minds behind the innovations. \nRegister now to secure your spot and take part in an inspiring conversation that can shape the future of your own inventive path.
URL:https://neinvents.org/event/famous-new-england-inventors-tell-their-stories/
LOCATION:New England Invents Offices at the IHub Haverhill Campus\, 2 Merrimack St Suite 342\, Haverhill\, MA\, 01830
END:VEVENT
BEGIN:VEVENT
DTSTART;TZID=America/New_York:20241209T190000
DTEND;TZID=America/New_York:20241209T200000
DTSTAMP:20260420T203434
CREATED:20240124T172048Z
LAST-MODIFIED:20240212T141626Z
UID:3733-1733770800-1733774400@neinvents.org
SUMMARY:USPTO's Roadmap to Successful Invention Protection
DESCRIPTION:Learn how to safeguard your inventions in this virtual panel discussion: “USPTO’s Roadmap to Successful Invention Protection.”  During this session\, USPTO experts will discuss strategies\, insights\, and best practices for securing your intellectual property. \nWhether you’re a seasoned inventor seeking advanced guidance or just starting on your inventive path\, this panel promises vital information crucial to the success of your innovations. \nRegister today and provide your inventions with the protection they deserve. \n \n 
URL:https://neinvents.org/event/usptos-roadmap-to-successful-invention-protection/
LOCATION:MA
END:VEVENT
END:VCALENDAR